BEGIN:VCALENDAR
VERSION:2.0
PRODID:-//eventon.com NONSGML v1.0//EN
BEGIN:VEVENT
UID:69e73b6686f3b
DTSTAMP:20260421T045502
DTSTART:20220403T133000Z
DTEND:20220403T143000Z
TZID:America/New_York
LOCATION:Highlands Community Center 22 Snug Harbor Avenue
SUMMARY:Yoga with Lorna - Mayors Wellness Campaign - FREE
DESCRIPTION: FREE YOGA Click here to register\nhttps://highlandsnj.gov/events/yoga-with-lorna-mayors-wellness-campaign/
URL:https://highlandsnj.gov/events/yoga-with-lorna-mayors-wellness-campaign/
END:VEVENT
END:VCALENDAR