BEGIN:VCALENDAR
VERSION:2.0
PRODID:-//eventon.com NONSGML v1.0//EN
BEGIN:VEVENT
UID:69e73c71228a2
DTSTAMP:20260421T045929
DTSTART:20211010T140000Z
DTEND:20211010T160000Z
TZID:America/New_York
LOCATION:Highlands Community Center 22 Snug Harbor Avenue
SUMMARY:Fire Safety with Highlands Fire Department & Prevention
DESCRIPTION: Join us for a FREE family fun morning filled with fire safety activities. Scroll below to RSVP.\nhttps://highlandsnj.gov/events/fire-safety-with-highlands-fire-department-prevention/
URL:https://highlandsnj.gov/events/fire-safety-with-highlands-fire-department-prevention/
END:VEVENT
END:VCALENDAR