BEGIN:VCALENDAR
VERSION:2.0
PRODID:-//eventon.com NONSGML v1.0//EN
BEGIN:VEVENT
UID:69e738e55d586
DTSTAMP:20260421T044421
DTSTART:20210624T143000Z
DTEND:20210624T153000Z
TZID:America/New_York
LOCATION:
SUMMARY:Highlands Recreation - Moms Tribe
DESCRIPTION: To pre-register for free event scroll down and click on the RSVP tab.\nhttps://highlandsnj.gov/events/highlands-recreation-moms-tribe/
URL:https://highlandsnj.gov/events/highlands-recreation-moms-tribe/
END:VEVENT
END:VCALENDAR