BEGIN:VCALENDAR
VERSION:2.0
PRODID:-//eventon.com NONSGML v1.0//EN
BEGIN:VEVENT
UID:69e73c792e8d4
DTSTAMP:20260421T045937
DTSTART:20210208
DTEND:20210209
TZID:America/New_York
LOCATION:
SUMMARY:Zones 1 & 3 Garbage Pickup
DESCRIPTION: Place trash at the curb the night before pickup.\nhttps://highlandsnj.gov/events/zones-1-3-garbage-pickup/
URL:https://highlandsnj.gov/events/zones-1-3-garbage-pickup/
END:VEVENT
END:VCALENDAR