BEGIN:VCALENDAR
VERSION:2.0
PRODID:-//eventon.com NONSGML v1.0//EN
BEGIN:VEVENT
UID:69e73d251efa1
DTSTAMP:20260421T050229
DTSTART:20240516T140000Z
DTEND:20240516T150000Z
TZID:America/New_York
LOCATION:Highlands Community Center 22 Snug Harbor Avenue
SUMMARY:Adult Qigong - Mayors Wellness Campaign
DESCRIPTION: FREE May 2\,  9\,  16\,  23 Pre-registration required. https://highlandsborough.leagueapps.com/events/4231025-adult-qigong-2024\nhttps://highlandsnj.gov/events/adult-qigong-mayors-wellness-campaign-5/
URL:https://highlandsnj.gov/events/adult-qigong-mayors-wellness-campaign-5/
END:VEVENT
END:VCALENDAR