BEGIN:VCALENDAR
VERSION:2.0
PRODID:-//eventon.com NONSGML v1.0//EN
BEGIN:VEVENT
UID:69e73aeb1ba08
DTSTAMP:20260421T045259
DTSTART:20241225T212800Z
DTEND:20241225T212800Z
TZID:America/New_York
LOCATION:
SUMMARY:Municipal Offices Closed Christmas Day
DESCRIPTION: \nhttps://highlandsnj.gov/events/municipal-offices-closed-christmas-day/
URL:https://highlandsnj.gov/events/municipal-offices-closed-christmas-day/
END:VEVENT
END:VCALENDAR